BEGIN:VCALENDAR
VERSION:2.0
PRODID:icalendar-ruby
CALSCALE:GREGORIAN
BEGIN:VEVENT
DTSTAMP:20260420T144025Z
UID:f50ee96d-15dd-4117-b8a2-fac10b6d2b2a
DTSTART;VALUE=DATE:20250619
DESCRIPTION:Property ID# 592108\, Locatoin: 471 Papanui Road\, Gold Auction
  Rooms (USP)\, Time: 10:00AM
SUMMARY:Auction for 
END:VEVENT
END:VCALENDAR
