BEGIN:VCALENDAR
VERSION:2.0
PRODID:icalendar-ruby
CALSCALE:GREGORIAN
BEGIN:VEVENT
DTSTAMP:20260420T144127Z
UID:d1665eae-00f5-422d-be69-6230ea39d7eb
DTSTART;VALUE=DATE:20250710
DESCRIPTION:Property ID# 592327\, Locatoin: 471 Papanui Road\, Gold Auction
  Rooms\, Papanui\, Christchurch (USP)\, Time: 10:00AM
SUMMARY:Auction for 
END:VEVENT
END:VCALENDAR
