BEGIN:VCALENDAR
VERSION:2.0
PRODID:icalendar-ruby
CALSCALE:GREGORIAN
BEGIN:VEVENT
DTSTAMP:20260420T144852Z
UID:8648fb65-bec7-4f59-8a5a-07b7bab8b47d
DTSTART;VALUE=DATE:20251120
DESCRIPTION:Property ID# 599090\, Locatoin: 471 Papanui Road\, Gold Auction
  Rooms (USP)\, Time: 10:00AM
SUMMARY:Auction for 
END:VEVENT
END:VCALENDAR
