BEGIN:VCALENDAR
VERSION:2.0
PRODID:icalendar-ruby
CALSCALE:GREGORIAN
BEGIN:VEVENT
DTSTAMP:20260424T103515Z
UID:8eab31d5-9f35-47fa-afd3-c61db9c594e1
DTSTART;VALUE=DATE:20260507
DESCRIPTION:Property ID# 606393\, Locatoin: Grenadier House\, 98 Moorhouse 
 Avenue\, Christchurch\, Time: 11:00AM
SUMMARY:Auction for 19 Rosamund Place
END:VEVENT
END:VCALENDAR
