BEGIN:VCALENDAR
VERSION:2.0
PRODID:icalendar-ruby
CALSCALE:GREGORIAN
BEGIN:VEVENT
DTSTAMP:20260420T114014Z
UID:f2ee5e4c-bc01-4dfc-bb94-aa20531b76d4
DTSTART;VALUE=DATE:20260506
DESCRIPTION:Property ID# 606718\, Locatoin: Russley Golf Club\, 428 Memoria
 l Avenue\, Burnside\, Time: 10:00AM
SUMMARY:Auction for 63 Otaki Street
END:VEVENT
END:VCALENDAR
