BEGIN:VCALENDAR
VERSION:2.0
PRODID:icalendar-ruby
CALSCALE:GREGORIAN
BEGIN:VEVENT
DTSTAMP:20260420T144229Z
UID:c6230902-5e90-498d-be33-6b2bc17df324
DTSTART;TZID=Pacific/Auckland:20260503T103000
DTEND;TZID=Pacific/Auckland:20260503T110000
DESCRIPTION:Property ID# 605470
SUMMARY:Openhome for 365 Terrace Road
END:VEVENT
END:VCALENDAR
