BEGIN:VCALENDAR
VERSION:2.0
PRODID:icalendar-ruby
CALSCALE:GREGORIAN
BEGIN:VEVENT
DTSTAMP:20260420T144626Z
UID:aed4173b-6d16-41c6-9839-183815ad9752
DTSTART;TZID=Pacific/Auckland:20260419T140000
DTEND;TZID=Pacific/Auckland:20260419T143000
DESCRIPTION:Property ID# 605814
SUMMARY:Openhome for 51 Station Road
END:VEVENT
END:VCALENDAR
